View In:
ArcGIS JavaScript
ArcGIS Online Map Viewer
ArcGIS Earth
ArcMap
ArcGIS Pro
View Footprint In:
ArcGIS Online Map Viewer
Service Description: <DIV STYLE="text-align:Left;"><DIV><DIV><P><SPAN>The </SPAN><SPAN STYLE="font-weight:bold;">Environmental Justice Index (EJI)</SPAN><SPAN> is the first national, place-based tool designed to measure the cumulative impacts of environmental burdens through the lenses of human health and health equity.</SPAN></P><P><SPAN>The EJI delivers a single rank for each community to identify and map areas most at risk for the health impacts of environmental burdens. Social factors such as poverty, race, and ethnicity, along with pre-existing health conditions may increase these impacts. This tool helps public health officials prioritize action for those communities most in need. </SPAN></P><P><SPAN>The EJI presents data for each census tract in the continental United States. Census tracts are the smallest subdivisions of land for which data are consistently available. Each census tract represents a community and is home to an average of 4,000 people. </SPAN></P><P><SPAN>The data used in the EJI comes from the U.S. Census Bureau, the U.S. Environmental Protection Agency, the U.S. Mine Safety and Health Administration, the U.S. Department of Transportation, OpenStreetMap, the U.S. Geospatial Survey, the U.S. Department of Agriculture, the U.S. Federal Emergency Management Agency, the National Aeronautics and Space Administration, the National Oceanic and Atmospheric Administration, and the U.S. Centers for Disease Control and Prevention. </SPAN></P><P><SPAN>In addition to delivering a single environmental justice rank for each community, the EJI also ranks communities on each of the four modules in the tool (social vulnerability, environmental burden, health vulnerability, and climate burden) and allows more detailed analysis within these modules. </SPAN></P></DIV></DIV></DIV>
Map Name: Publishing
Legend
All Layers and Tables
Dynamic Legend
Dynamic All Layers
Layers:
Description: <DIV STYLE="text-align:Left;"><DIV><DIV><P><SPAN>The </SPAN><SPAN STYLE="font-weight:bold;">Environmental Justice Index (EJI)</SPAN><SPAN> is the first national, place-based tool designed to measure the cumulative impacts of environmental burdens through the lenses of human health and health equity.</SPAN></P><P><SPAN>The EJI delivers a single rank for each community to identify and map areas most at risk for the health impacts of environmental burdens. Social factors such as poverty, race, and ethnicity, along with pre-existing health conditions may increase these impacts. This tool helps public health officials prioritize action for those communities most in need. </SPAN></P><P><SPAN>The EJI presents data for each census tract in the continental United States. Census tracts are the smallest subdivisions of land for which data are consistently available. Each census tract represents a community and is home to an average of 4,000 people. </SPAN></P><P><SPAN>The data used in the EJI comes from the U.S. Census Bureau, the U.S. Environmental Protection Agency, the U.S. Mine Safety and Health Administration, the U.S. Department of Transportation, OpenStreetMap, the U.S. Geospatial Survey, the U.S. Department of Agriculture, the U.S. Federal Emergency Management Agency, the National Aeronautics and Space Administration, the National Oceanic and Atmospheric Administration, and the U.S. Centers for Disease Control and Prevention. </SPAN></P><P><SPAN>In addition to delivering a single environmental justice rank for each community, the EJI also ranks communities on each of the four modules in the tool (social vulnerability, environmental burden, health vulnerability, and climate burden) and allows more detailed analysis within these modules. </SPAN></P></DIV></DIV></DIV>
Service Item Id: 6b8f75349bd64d35b5c20cb6f8c2cd67
Copyright Text: CDC/ATSDR GRASP
Spatial Reference:
102100
(3857)
LatestVCSWkid(0)
Single Fused Map Cache: true
Tile Info:
- Height: 256.0
- Width: 256.0
- DPI: 96.0
-
Levels of Detail: 24
-
Level ID: 1
[ Start Tile, End Tile ]
- Resolution: 78271.5169639999
- Scale: 2.95828763795777E8
-
Level ID: 2
[ Start Tile, End Tile ]
- Resolution: 39135.7584820001
- Scale: 1.47914381897889E8
-
Level ID: 3
[ Start Tile, End Tile ]
- Resolution: 19567.8792409999
- Scale: 7.3957190948944E7
-
Level ID: 4
[ Start Tile, End Tile ]
- Resolution: 9783.93962049996
- Scale: 3.6978595474472E7
-
Level ID: 5
[ Start Tile, End Tile ]
- Resolution: 4891.96981024998
- Scale: 1.8489297737236E7
- Format: PNG
- Compression Quality: 0.0
- Origin: X: -2.0037508342787E7
Y: 2.0037508342787E7
- Spatial Reference: 102100
(3857)
LatestVCSWkid(0)
Storage Info:
- Storage Format: esriMapCacheStorageModeCompactV2
- Packet Size: 128
Initial Extent:
XMin: -8225529.501427992
YMin: 4994472.675168822
XMax: -7898949.053774784
YMax: 5205805.77097162
Spatial Reference: 102100
(0)
LatestVCSWkid(0)
Full Extent:
XMin: NaN
YMin: NaN
XMax: NaN
YMax: NaN
Spatial Reference: 102100
(0)
LatestVCSWkid(0)
Units: esriMeters
Supported Image Format Types: PNG32,PNG24,PNG,JPG,DIB,TIFF,EMF,PS,PDF,GIF,SVG,SVGZ,BMP
Document Info:
Title: Map
Author:
Comments:
Subject:
Category:
Keywords: Environment and Public Health,Environmental Justice,Index,Hazardous Substances,Housing,Health Inequities,Socioeconomic Factors,EJI,CDC,GRASP
AntialiasingMode: None
TextAntialiasingMode: Force
Supports Dynamic Layers: true
Resampling: true
MaxRecordCount: 2000
MaxImageHeight: 4096
MaxImageWidth: 4096
Supported Query Formats: JSON, geoJSON, PBF
Supports Query Data Elements: true
Min Scale: 5.91657527591555E8
Max Scale: 18055.954822
Min LOD: 0
Max LOD: 15
Supports Datum Transformation: true
Child Resources:
Info
Dynamic Layer
Supported Operations:
Export Map
Identify
QueryLegends
QueryDomains
Find
EstimateExportTilesSize
ExportTiles
Return Updates