{ "currentVersion": 10.91, "cimVersion": "2.9.0", "serviceDescription": "
The <\/SPAN>Environmental Justice Index (EJI)<\/SPAN> is the first national, place-based tool designed to measure the cumulative impacts of environmental burdens through the lenses of human health and health equity.<\/SPAN><\/P> The EJI delivers a single rank for each community to identify and map areas most at risk for the health impacts of environmental burdens. Social factors such as poverty, race, and ethnicity, along with pre-existing health conditions may increase these impacts. This tool helps public health officials prioritize action for those communities most in need. <\/SPAN><\/P> The EJI presents data for each census tract in the continental United States. Census tracts are the smallest subdivisions of land for which data are consistently available. Each census tract represents a community and is home to an average of 4,000 people. <\/SPAN><\/P> The data used in the EJI comes from the U.S. Census Bureau, the U.S. Environmental Protection Agency, the U.S. Mine Safety and Health Administration, the U.S. Department of Transportation, OpenStreetMap, the U.S. Geospatial Survey, the U.S. Department of Agriculture, the U.S. Federal Emergency Management Agency, the National Aeronautics and Space Administration, the National Oceanic and Atmospheric Administration, and the U.S. Centers for Disease Control and Prevention. <\/SPAN><\/P> In addition to delivering a single environmental justice rank for each community, the EJI also ranks communities on each of the four modules in the tool (social vulnerability, environmental burden, health vulnerability, and climate burden) and allows more detailed analysis within these modules. <\/SPAN><\/P><\/DIV><\/DIV><\/DIV>",
"mapName": "Publishing",
"description": " The <\/SPAN>Environmental Justice Index (EJI)<\/SPAN> is the first national, place-based tool designed to measure the cumulative impacts of environmental burdens through the lenses of human health and health equity.<\/SPAN><\/P> The EJI delivers a single rank for each community to identify and map areas most at risk for the health impacts of environmental burdens. Social factors such as poverty, race, and ethnicity, along with pre-existing health conditions may increase these impacts. This tool helps public health officials prioritize action for those communities most in need. <\/SPAN><\/P> The EJI presents data for each census tract in the continental United States. Census tracts are the smallest subdivisions of land for which data are consistently available. Each census tract represents a community and is home to an average of 4,000 people. <\/SPAN><\/P> The data used in the EJI comes from the U.S. Census Bureau, the U.S. Environmental Protection Agency, the U.S. Mine Safety and Health Administration, the U.S. Department of Transportation, OpenStreetMap, the U.S. Geospatial Survey, the U.S. Department of Agriculture, the U.S. Federal Emergency Management Agency, the National Aeronautics and Space Administration, the National Oceanic and Atmospheric Administration, and the U.S. Centers for Disease Control and Prevention. <\/SPAN><\/P> In addition to delivering a single environmental justice rank for each community, the EJI also ranks communities on each of the four modules in the tool (social vulnerability, environmental burden, health vulnerability, and climate burden) and allows more detailed analysis within these modules. <\/SPAN><\/P><\/DIV><\/DIV><\/DIV>",
"copyrightText": "CDC/ATSDR GRASP",
"supportsDynamicLayers": true,
"layers": [],
"tables": [],
"spatialReference": {
"wkid": 102100,
"latestWkid": 3857,
"xyTolerance": 0.001,
"zTolerance": 0.001,
"mTolerance": 0.001,
"falseX": -20037700,
"falseY": -30241100,
"xyUnits": 10000,
"falseZ": -100000,
"zUnits": 10000,
"falseM": -100000,
"mUnits": 10000
},
"singleFusedMapCache": true,
"tileInfo": {
"rows": 256,
"cols": 256,
"dpi": 96,
"format": "PNG",
"compressionQuality": 0,
"origin": {
"x": -2.0037508342787E7,
"y": 2.0037508342787E7
},
"spatialReference": {
"wkid": 102100,
"latestWkid": 3857,
"xyTolerance": 0.001,
"zTolerance": 0.001,
"mTolerance": 0.001,
"falseX": -20037700,
"falseY": -30241100,
"xyUnits": 1.4892314192838538E8,
"falseZ": -100000,
"zUnits": 10000,
"falseM": -100000,
"mUnits": 10000
},
"lods": [
{
"level": 0,
"resolution": 156543.033928,
"scale": 5.91657527591555E8
},
{
"level": 1,
"resolution": 78271.5169639999,
"scale": 2.95828763795777E8
},
{
"level": 2,
"resolution": 39135.7584820001,
"scale": 1.47914381897889E8
},
{
"level": 3,
"resolution": 19567.8792409999,
"scale": 7.3957190948944E7
},
{
"level": 4,
"resolution": 9783.93962049996,
"scale": 3.6978595474472E7
},
{
"level": 5,
"resolution": 4891.96981024998,
"scale": 1.8489297737236E7
},
{
"level": 6,
"resolution": 2445.98490512499,
"scale": 9244648.868618
},
{
"level": 7,
"resolution": 1222.99245256249,
"scale": 4622324.434309
},
{
"level": 8,
"resolution": 611.49622628138,
"scale": 2311162.217155
},
{
"level": 9,
"resolution": 305.748113140558,
"scale": 1155581.108577
},
{
"level": 10,
"resolution": 152.874056570411,
"scale": 577790.554289
},
{
"level": 11,
"resolution": 76.4370282850732,
"scale": 288895.277144
},
{
"level": 12,
"resolution": 38.2185141425366,
"scale": 144447.638572
},
{
"level": 13,
"resolution": 19.1092570712683,
"scale": 72223.819286
},
{
"level": 14,
"resolution": 9.55462853563415,
"scale": 36111.909643
},
{
"level": 15,
"resolution": 4.77731426794937,
"scale": 18055.954822
},
{
"level": 16,
"resolution": 2.38865713397468,
"scale": 9027.977411
},
{
"level": 17,
"resolution": 1.19432856685505,
"scale": 4513.988705
},
{
"level": 18,
"resolution": 0.597164283559817,
"scale": 2256.994353
},
{
"level": 19,
"resolution": 0.298582141647617,
"scale": 1128.497176
},
{
"level": 20,
"resolution": 0.14929107082380833,
"scale": 564.248588
},
{
"level": 21,
"resolution": 0.07464553541190416,
"scale": 282.124294
},
{
"level": 22,
"resolution": 0.03732276770595208,
"scale": 141.062147
},
{
"level": 23,
"resolution": 0.01866138385297604,
"scale": 70.5310735
}
]
},
"storageInfo": {
"storageFormat": "esriMapCacheStorageModeCompactV2",
"packetSize": 128
},
"initialExtent": {
"xmin": -8225529.501427992,
"ymin": 4994472.675168822,
"xmax": -7898949.053774784,
"ymax": 5205805.77097162,
"spatialReference": {
"cs": "pcs",
"wkid": 102100
}
},
"fullExtent": {
"xmin": "NaN",
"ymin": "NaN",
"xmax": "NaN",
"ymax": "NaN",
"spatialReference": {
"cs": "pcs",
"wkid": 102100
}
},
"datesInUnknownTimezone": false,
"minScale": 5.91657527591555E8,
"maxScale": 18055.954822,
"minLOD": 0,
"maxLOD": 15,
"units": "esriMeters",
"supportedImageFormatTypes": "PNG32,PNG24,PNG,JPG,DIB,TIFF,EMF,PS,PDF,GIF,SVG,SVGZ,BMP",
"documentInfo": {
"Title": "Map",
"Author": "",
"Comments": "",
"Subject": "",
"Category": "",
"AntialiasingMode": "None",
"TextAntialiasingMode": "Force",
"Version": "2.9.0",
"Keywords": "Environment and Public Health,Environmental Justice,Index,Hazardous Substances,Housing,Health Inequities,Socioeconomic Factors,EJI,CDC,GRASP"
},
"supportsQueryDomains": true,
"capabilities": "Map,Query,Data",
"supportedQueryFormats": "JSON, geoJSON, PBF",
"exportTilesAllowed": true,
"maxExportTilesCount": 100000,
"referenceScale": 0.0,
"datumTransformations": [
{
"geoTransforms": [
{
"wkid": 108190,
"latestWkid": 108190,
"transformForward": true,
"name": "WGS_1984_(ITRF00)_To_NAD_1983"
}
]
},
{
"geoTransforms": [
{
"wkid": 108190,
"latestWkid": 108190,
"transformForward": false,
"name": "WGS_1984_(ITRF00)_To_NAD_1983"
}
]
}
],
"supportsDatumTransformation": true,
"floorAwareMapProperties": {
"defaultFloorFilterSettings": {"isEnabled": false}
},
"archivingInfo": {"supportsHistoricMoment": false},
"supportsClipping": true,
"supportsSpatialFilter": true,
"supportsTimeRelation": true,
"supportsQueryDataElements": true,
"maxRecordCount": 2000,
"maxImageHeight": 4096,
"maxImageWidth": 4096,
"supportedExtensions": "",
"resampling": true,
"serviceItemId": "655ca3522f7841a4a9052a4f0a93df7c"
}